BEGIN:VCALENDAR
VERSION:2.0
PRODID:HAZ Events
BEGIN:VEVENT
UID:
DTSTAMP:1776840743
SUMMARY:Maschenzauber
LOCATION:Begegnungsst&auml;tte
CLASS:PUBLIC
DTSTART:20260721T170000Z
DTEND:20260721T190000Z
END:VEVENT
END:VCALENDAR