BEGIN:VCALENDAR
VERSION:2.0
PRODID:HAZ Events
BEGIN:VEVENT
UID:
DTSTAMP:1776828351
SUMMARY:Bilderbuchkino
LOCATION:Stadtbibliothek Hannover
CLASS:PUBLIC
DTSTART:20260520T140000Z
DTEND:20260520T160000Z
END:VEVENT
END:VCALENDAR