BEGIN:VCALENDAR
VERSION:2.0
PRODID:HAZ Events
BEGIN:VEVENT
UID:
DTSTAMP:1776821650
SUMMARY:Bilderbuchkino
LOCATION:Stadtbibliothek Hannover
CLASS:PUBLIC
DTSTART:20260506T140000Z
DTEND:20260506T160000Z
END:VEVENT
END:VCALENDAR