BEGIN:VCALENDAR
VERSION:2.0
PRODID:HAZ Events
BEGIN:VEVENT
UID:
DTSTAMP:1776689293
SUMMARY:Wochenmarkt
LOCATION:Innenstadt
CLASS:PUBLIC
DTSTART:20260718T063000Z
DTEND:20260718T110000Z
END:VEVENT
END:VCALENDAR