BEGIN:VCALENDAR
VERSION:2.0
PRODID:HAZ Events
BEGIN:VEVENT
UID:
DTSTAMP:1776846645
SUMMARY:Bauernmarkt
LOCATION:Fiedelerplatz
CLASS:PUBLIC
DTSTART:20260721T120000Z
DTEND:20260721T160000Z
END:VEVENT
END:VCALENDAR