BEGIN:VCALENDAR
VERSION:2.0
PRODID:HAZ Events
BEGIN:VEVENT
UID:
DTSTAMP:1776780959
SUMMARY:Bauernmarkt
LOCATION:Einkaufspark Klein-Buchholz
CLASS:PUBLIC
DTSTART:20260717T120000Z
DTEND:20260717T160000Z
END:VEVENT
END:VCALENDAR