BEGIN:VCALENDAR
VERSION:2.0
PRODID:HAZ Events
BEGIN:VEVENT
UID:
DTSTAMP:1776689394
SUMMARY:Bauernmarkt
LOCATION:Rimpaustra&szlig;e
CLASS:PUBLIC
DTSTART:20260718T060000Z
DTEND:20260718T110000Z
END:VEVENT
END:VCALENDAR