BEGIN:VCALENDAR
VERSION:2.0
PRODID:HAZ Events
BEGIN:VEVENT
UID:
DTSTAMP:1776780871
SUMMARY:Wochenmarkt
LOCATION:Marktplatz
CLASS:PUBLIC
DTSTART:20260717T123000Z
DTEND:20260717T160000Z
END:VEVENT
END:VCALENDAR