BEGIN:VCALENDAR
VERSION:2.0
PRODID:HAZ Events
BEGIN:VEVENT
UID:
DTSTAMP:1776851483
SUMMARY:Wochenmarkt
LOCATION:Fu&szlig;g&auml;ngerzone
CLASS:PUBLIC
DTSTART:20260721T070000Z
DTEND:20260721T140000Z
END:VEVENT
END:VCALENDAR