BEGIN:VCALENDAR
VERSION:2.0
PRODID:HAZ Events
BEGIN:VEVENT
UID:
DTSTAMP:1776689373
SUMMARY:Wochenmarkt
LOCATION:Marktplatz Lehrte
CLASS:PUBLIC
DTSTART:20260718T060000Z
DTEND:20260718T110000Z
END:VEVENT
END:VCALENDAR