BEGIN:VCALENDAR
VERSION:2.0
PRODID:HAZ Events
BEGIN:VEVENT
UID:
DTSTAMP:1776684390
SUMMARY:Seniorinnen und Senioren 65+
LOCATION:Lokal Aspendos
CLASS:PUBLIC
DTSTART:20260719T123000Z
DTEND:20260719T143000Z
END:VEVENT
END:VCALENDAR