BEGIN:VCALENDAR
VERSION:2.0
PRODID:HAZ Events
BEGIN:VEVENT
UID:
DTSTAMP:1776853954
SUMMARY:Seniorinnen und Senioren 65+
LOCATION:Lokal Aspendos
CLASS:PUBLIC
DTSTART:20260426T123000Z
DTEND:20260426T143000Z
END:VEVENT
END:VCALENDAR