BEGIN:VCALENDAR
VERSION:2.0
PRODID:HAZ Events
BEGIN:VEVENT
UID:
DTSTAMP:1776689322
SUMMARY:Doppelkopf-Treff
LOCATION:Begegnungsst&auml;tte Silbernkamp
CLASS:PUBLIC
DTSTART:20260717T150000Z
DTEND:20260717T170000Z
END:VEVENT
END:VCALENDAR