BEGIN:VCALENDAR
VERSION:2.0
PRODID:HAZ Events
BEGIN:VEVENT
UID:
DTSTAMP:1776684411
SUMMARY:Kultur-Fr&uuml;hst&uuml;ck
LOCATION:Ginkgoo
CLASS:PUBLIC
DTSTART:20260719T090000Z
DTEND:20260719T110000Z
END:VEVENT
END:VCALENDAR