BEGIN:VCALENDAR
VERSION:2.0
PRODID:HAZ Events
BEGIN:VEVENT
UID:
DTSTAMP:1776771690
SUMMARY:Malgruppe
LOCATION:Begegnungsst&auml;tte Rodewaldstra&szlig;e
CLASS:PUBLIC
DTSTART:20260720T080000Z
DTEND:20260720T100000Z
END:VEVENT
END:VCALENDAR