BEGIN:VCALENDAR
VERSION:2.0
PRODID:HAZ Events
BEGIN:VEVENT
UID:
DTSTAMP:1776846246
SUMMARY:Spielenachmittag
LOCATION:Medicum Wunstorf
CLASS:PUBLIC
DTSTART:20260721T130000Z
DTEND:20260721T150000Z
END:VEVENT
END:VCALENDAR