BEGIN:VCALENDAR
VERSION:2.0
PRODID:HAZ Events
BEGIN:VEVENT
UID:
DTSTAMP:1776846247
SUMMARY:Dorfcaf&eacute;
LOCATION:Alte Schule
CLASS:PUBLIC
DTSTART:20260721T130000Z
DTEND:20260721T160000Z
END:VEVENT
END:VCALENDAR