BEGIN:VCALENDAR
VERSION:2.0
PRODID:HAZ Events
BEGIN:VEVENT
UID:
DTSTAMP:1776767500
SUMMARY:Health-Yoga
LOCATION:Caroline-Herschel-Realschule
CLASS:PUBLIC
DTSTART:20260720T170000Z
DTEND:20260720T180000Z
END:VEVENT
END:VCALENDAR