BEGIN:VCALENDAR
VERSION:2.0
PRODID:HAZ Events
BEGIN:VEVENT
UID:
DTSTAMP:1776684327
SUMMARY:Verf&uuml;hrung zum Tango
LOCATION:Tango Milieu
CLASS:PUBLIC
DTSTART:20260719T130000Z
DTEND:20260719T150000Z
END:VEVENT
END:VCALENDAR