BEGIN:VCALENDAR
VERSION:2.0
PRODID:HAZ Events
BEGIN:VEVENT
UID:
DTSTAMP:1776864100
SUMMARY:The History of Sound
LOCATION:Kino am Raschplatz
CLASS:PUBLIC
DTSTART:20260429T184500Z
DTEND:20260429T204500Z
END:VEVENT
END:VCALENDAR