BEGIN:VCALENDAR
VERSION:2.0
PRODID:HAZ Events
BEGIN:VEVENT
UID:
DTSTAMP:1776865116
SUMMARY:Pillion
LOCATION:Kino am Raschplatz
CLASS:PUBLIC
DTSTART:20260426T190000Z
DTEND:20260426T210000Z
END:VEVENT
END:VCALENDAR