BEGIN:VCALENDAR
VERSION:2.0
PRODID:HAZ Events
BEGIN:VEVENT
UID:
DTSTAMP:1776859237
SUMMARY:Assassination Classroom The Movie: Our Time
LOCATION:Astor Grand Cinema
CLASS:PUBLIC
DTSTART:20260426T153000Z
DTEND:20260426T173000Z
END:VEVENT
END:VCALENDAR