BEGIN:VCALENDAR
VERSION:2.0
PRODID:HAZ Events
BEGIN:VEVENT
UID:
DTSTAMP:1776869527
SUMMARY:Power To The People: John &amp; Yoko Live in NYC
LOCATION:Astor Grand Cinema
CLASS:PUBLIC
DTSTART:20260429T170000Z
DTEND:20260429T190000Z
END:VEVENT
END:VCALENDAR