BEGIN:VCALENDAR
VERSION:2.0
PRODID:HAZ Events
BEGIN:VEVENT
UID:
DTSTAMP:1776854056
SUMMARY:Das Fl&uuml;stern der W&auml;lder
LOCATION:Hochhaus-Lichtspiele
CLASS:PUBLIC
DTSTART:20260426T110000Z
DTEND:20260426T130000Z
END:VEVENT
END:VCALENDAR