BEGIN:VCALENDAR
VERSION:2.0
PRODID:HAZ Events
BEGIN:VEVENT
UID:
DTSTAMP:1776854063
SUMMARY:Der Wunderweltenbaum
LOCATION:Astor Grand Cinema
CLASS:PUBLIC
DTSTART:20260426T124500Z
DTEND:20260426T144500Z
END:VEVENT
END:VCALENDAR