BEGIN:VCALENDAR
VERSION:2.0
PRODID:HAZ Events
BEGIN:VEVENT
UID:
DTSTAMP:1776869506
SUMMARY:Der Teufel tr&auml;gt Prada 2
LOCATION:Astor Grand Cinema
CLASS:PUBLIC
DTSTART:20260429T183000Z
DTEND:20260429T203000Z
END:VEVENT
END:VCALENDAR