BEGIN:VCALENDAR
VERSION:2.0
PRODID:HAZ Events
BEGIN:VEVENT
UID:
DTSTAMP:1776885228
SUMMARY:Meine Wiedergeburt als Schleim in einer anderen Welt, Der Film: Tr&auml;nen des azurblauen Meers
LOCATION:Astor Grand Cinema
CLASS:PUBLIC
DTSTART:20260428T181500Z
DTEND:20260428T201500Z
END:VEVENT
END:VCALENDAR