BEGIN:VCALENDAR
VERSION:2.0
PRODID:HAZ Events
BEGIN:VEVENT
UID:
DTSTAMP:1776869606
SUMMARY:Die Stimme von Hind Rajab
LOCATION:Apollo
CLASS:PUBLIC
DTSTART:20260429T160000Z
DTEND:20260429T180000Z
END:VEVENT
END:VCALENDAR