BEGIN:VCALENDAR
VERSION:2.0
PRODID:HAZ Events
BEGIN:VEVENT
UID:
DTSTAMP:1776877669
SUMMARY:Unter den Stra&szlig;en von Hannover
LOCATION:Apollo
CLASS:PUBLIC
DTSTART:20260428T153000Z
DTEND:20260428T173000Z
END:VEVENT
END:VCALENDAR