BEGIN:VCALENDAR
VERSION:2.0
PRODID:HAZ Events
BEGIN:VEVENT
UID:
DTSTAMP:1776869533
SUMMARY:40 Jahre Tschernobyl, 15 Jahre Fukushima?
LOCATION:
CLASS:PUBLIC
DTSTART:20260429T170000Z
DTEND:20260429T190000Z
END:VEVENT
END:VCALENDAR