BEGIN:VCALENDAR
VERSION:2.0
PRODID:HAZ Events
BEGIN:VEVENT
UID:
DTSTAMP:1776869529
SUMMARY:&bdquo;K&ouml;pfchen bewahren&ldquo; &ndash; Wie wir unser Gehirn bis ins hohe Alter fit halten
LOCATION:
CLASS:PUBLIC
DTSTART:20260429T160000Z
DTEND:20260429T180000Z
END:VEVENT
END:VCALENDAR