BEGIN:VCALENDAR
VERSION:2.0
PRODID:HAZ Events
BEGIN:VEVENT
UID:
DTSTAMP:1776851431
SUMMARY:Tanz in den Mai mit der LenneBrothers Band
LOCATION:ASB-Bahnhof
CLASS:PUBLIC
DTSTART:20260430T181500Z
DTEND:20260430T201500Z
END:VEVENT
END:VCALENDAR