BEGIN:VCALENDAR
VERSION:2.0
PRODID:HAZ Events
BEGIN:VEVENT
UID:
DTSTAMP:1776853954
SUMMARY:800 Jahre Schlo&szlig; Ricklingen
LOCATION:
CLASS:PUBLIC
DTSTART:20260426T120000Z
DTEND:20260426T150000Z
END:VEVENT
END:VCALENDAR