BEGIN:VCALENDAR
VERSION:2.0
PRODID:HAZ Events
BEGIN:VEVENT
UID:
DTSTAMP:1776877514
SUMMARY:Meine Wiedergeburt als Schleim in einer anderen Welt, Der Film: Tr&auml;nen des azurblauen Meers
LOCATION:CinemaxX Hannover
CLASS:PUBLIC
DTSTART:20260428T151500Z
DTEND:20260428T171500Z
END:VEVENT
END:VCALENDAR