BEGIN:VCALENDAR
VERSION:2.0
PRODID:HAZ Events
BEGIN:VEVENT
UID:
DTSTAMP:1776877586
SUMMARY:Meine Wiedergeburt als Schleim in einer anderen Welt, Der Film: Tr&auml;nen des azurblauen Meers
LOCATION:CineStar
CLASS:PUBLIC
DTSTART:20260428T150000Z
DTEND:20260428T170000Z
END:VEVENT
END:VCALENDAR