BEGIN:VCALENDAR
VERSION:2.0
PRODID:HAZ Events
BEGIN:VEVENT
UID:
DTSTAMP:1776829944
SUMMARY:Billie Eilish &ndash; Hit Me Hard and Soft: The Tour (Live in 3D)
LOCATION:CineMotion
CLASS:PUBLIC
DTSTART:20260505T174500Z
DTEND:20260505T194500Z
END:VEVENT
END:VCALENDAR