BEGIN:VCALENDAR
VERSION:2.0
PRODID:HAZ Events
BEGIN:VEVENT
UID:
DTSTAMP:1776857277
SUMMARY:Der Teufel tr&auml;gt Prada 2
LOCATION:CineMotion
CLASS:PUBLIC
DTSTART:20260503T180000Z
DTEND:20260503T200000Z
END:VEVENT
END:VCALENDAR