BEGIN:VCALENDAR
VERSION:2.0
PRODID:HAZ Events
BEGIN:VEVENT
UID:
DTSTAMP:1776857303
SUMMARY:Der Teufel tr&auml;gt Prada 2
LOCATION:Neue Schauburg
CLASS:PUBLIC
DTSTART:20260503T150000Z
DTEND:20260503T170000Z
END:VEVENT
END:VCALENDAR