BEGIN:VCALENDAR
VERSION:2.0
PRODID:HAZ Events
BEGIN:VEVENT
UID:
DTSTAMP:1776857408
SUMMARY:Der Teufel tr&auml;gt Prada 2
LOCATION:Neue Schauburg
CLASS:PUBLIC
DTSTART:20260502T180000Z
DTEND:20260502T200000Z
END:VEVENT
END:VCALENDAR