BEGIN:VCALENDAR
VERSION:2.0
PRODID:HAZ Events
BEGIN:VEVENT
UID:
DTSTAMP:1776816146
SUMMARY:Hamnet
LOCATION:Neue Schauburg
CLASS:PUBLIC
DTSTART:20260506T180000Z
DTEND:20260506T200000Z
END:VEVENT
END:VCALENDAR