BEGIN:VCALENDAR
VERSION:2.0
PRODID:HAZ Events
BEGIN:VEVENT
UID:
DTSTAMP:1776821701
SUMMARY:Ein Kuchen f&uuml;r den Pr&auml;sidenten
LOCATION:Neue Schauburg
CLASS:PUBLIC
DTSTART:20260506T153000Z
DTEND:20260506T173000Z
END:VEVENT
END:VCALENDAR