BEGIN:VCALENDAR
VERSION:2.0
PRODID:HAZ Events
BEGIN:VEVENT
UID:
DTSTAMP:1776854041
SUMMARY:Tom und Jerry: Der verlorene Kompass
LOCATION:CinemaxX Hannover
CLASS:PUBLIC
DTSTART:20260426T123000Z
DTEND:20260426T143000Z
END:VEVENT
END:VCALENDAR