BEGIN:VCALENDAR
VERSION:2.0
PRODID:HAZ Events
BEGIN:VEVENT
UID:
DTSTAMP:1776869507
SUMMARY:Ein Sommer in Italien &ndash; WM 1990
LOCATION:
CLASS:PUBLIC
DTSTART:20260429T143000Z
DTEND:20260429T163000Z
END:VEVENT
END:VCALENDAR