BEGIN:VCALENDAR
VERSION:2.0
PRODID:HAZ Events
BEGIN:VEVENT
UID:
DTSTAMP:1776859195
SUMMARY:Die wilde Nordsee &ndash; Natur, die sich nicht z&auml;hmen l&auml;sst
LOCATION:
CLASS:PUBLIC
DTSTART:20260429T173000Z
DTEND:20260429T193000Z
END:VEVENT
END:VCALENDAR