BEGIN:VCALENDAR
VERSION:2.0
PRODID:HAZ Events
BEGIN:VEVENT
UID:
DTSTAMP:1776853889
SUMMARY:Die wilde Nordsee &ndash; Natur, die sich nicht z&auml;hmen l&auml;sst
LOCATION:
CLASS:PUBLIC
DTSTART:20260426T120000Z
DTEND:20260426T140000Z
END:VEVENT
END:VCALENDAR