BEGIN:VCALENDAR
VERSION:2.0
PRODID:HAZ Events
BEGIN:VEVENT
UID:
DTSTAMP:1776872728
SUMMARY:Was Marielle wei&szlig;
LOCATION:
CLASS:PUBLIC
DTSTART:20260427T173000Z
DTEND:20260427T193000Z
END:VEVENT
END:VCALENDAR