BEGIN:VCALENDAR
VERSION:2.0
PRODID:HAZ Events
BEGIN:VEVENT
UID:
DTSTAMP:1776865208
SUMMARY:Rental Family
LOCATION:CineMotion
CLASS:PUBLIC
DTSTART:20260427T173000Z
DTEND:20260427T193000Z
END:VEVENT
END:VCALENDAR