BEGIN:VCALENDAR
VERSION:2.0
PRODID:HAZ Events
BEGIN:VEVENT
UID:
DTSTAMP:1776859272
SUMMARY:Rental Family
LOCATION:CineMotion
CLASS:PUBLIC
DTSTART:20260426T153000Z
DTEND:20260426T173000Z
END:VEVENT
END:VCALENDAR