BEGIN:VCALENDAR
VERSION:2.0
PRODID:HAZ Events
BEGIN:VEVENT
UID:
DTSTAMP:1776853930
SUMMARY:Bluey im Kino: &bdquo;Playdates&ldquo; &ndash; Kollektion
LOCATION:CineStar
CLASS:PUBLIC
DTSTART:20260426T104000Z
DTEND:20260426T124000Z
END:VEVENT
END:VCALENDAR