BEGIN:VCALENDAR
VERSION:2.0
PRODID:HAZ Events
BEGIN:VEVENT
UID:
DTSTAMP:1776853930
SUMMARY:Die Drei ??? &ndash; Toteninsel
LOCATION:CineStar
CLASS:PUBLIC
DTSTART:20260426T103000Z
DTEND:20260426T123000Z
END:VEVENT
END:VCALENDAR